BEGIN:VCALENDAR
VERSION:2.0
PRODID:-//AudioTheme 2.3.8
BEGIN:VEVENT
UID:urn:uuid:4fc5e5fe-2a0c-4df3-abd5-4b8f8286bb98
URL:https://mitchmcvicker.com/concerts/gig-2424/
DTSTART;VALUE=DATE:20060922
SUMMARY:Cincinnati Christian University
LOCATION:Cincinnati Christian University\, Cincinnati\, OH
END:VEVENT
END:VCALENDAR
