BEGIN:VCALENDAR
VERSION:2.0
PRODID:-//AudioTheme 2.3.8
BEGIN:VEVENT
UID:urn:uuid:eb6ae620-af40-4f28-a507-fb7c069b195f
URL:https://mitchmcvicker.com/concerts/gig-2422/
DTSTART;VALUE=DATE:20060921
SUMMARY:White Oak Christian Church
LOCATION:White Oak Christian Church\, Cincinnati\, OH
END:VEVENT
END:VCALENDAR
