BEGIN:VCALENDAR
VERSION:2.0
PRODID:-//AudioTheme 2.3.8
BEGIN:VEVENT
UID:urn:uuid:770ed2fe-c434-4ed2-bb25-48aa248619ad
URL:https://mitchmcvicker.com/concerts/gig-2420/
DTSTART;VALUE=DATE:20060920
SUMMARY:Agner Hall- Dearborn County Fairgrounds
LOCATION:Agner Hall- Dearborn County Fairgrounds\, Lawrenceburg\, IN
END:VEVENT
END:VCALENDAR
