BEGIN:VCALENDAR
VERSION:2.0
PRODID:-//AudioTheme 2.3.8
BEGIN:VEVENT
UID:urn:uuid:9cb3a23f-8f84-448c-aba0-86987fad47fe
URL:https://mitchmcvicker.com/concerts/gig-2418/
DTSTART;VALUE=DATE:20060917
SUMMARY:Eaglebrook Church-White Bear Campus
LOCATION:Eaglebrook Church-White Bear Campus\, White Bear Lake\, MN
END:VEVENT
END:VCALENDAR
