BEGIN:VCALENDAR
VERSION:2.0
PRODID:-//AudioTheme 2.3.8
BEGIN:VEVENT
UID:urn:uuid:523e637a-8d07-4dfa-af00-dbb8ba25f280
URL:https://mitchmcvicker.com/concerts/gig-2416/
DTSTART;VALUE=DATE:20060916
SUMMARY:Love of Christ Church
LOCATION:Love of Christ Church\, St. Cloud\, MN
END:VEVENT
END:VCALENDAR
