BEGIN:VCALENDAR
VERSION:2.0
PRODID:-//AudioTheme 2.3.8
BEGIN:VEVENT
UID:urn:uuid:8cc40c62-c845-4ffd-a5fb-f87a0080f860
URL:https://mitchmcvicker.com/concerts/gig-2415/
DTSTART;VALUE=DATE:20060915
SUMMARY:St. Croix Art Barn
LOCATION:St. Croix Art Barn\, Osceola\, WI
END:VEVENT
END:VCALENDAR
