BEGIN:VCALENDAR
VERSION:2.0
PRODID:-//AudioTheme 2.3.8
BEGIN:VEVENT
UID:urn:uuid:c3264461-c6ec-48e4-82cb-e876b875924b
URL:https://mitchmcvicker.com/concerts/gig-2413/
DTSTART;VALUE=DATE:20060914
SUMMARY:Higher Grounds  Coffeehouse
LOCATION:Higher Grounds  Coffeehouse\, Chippewa Falls\, WI
END:VEVENT
END:VCALENDAR
