BEGIN:VCALENDAR
VERSION:2.0
PRODID:-//AudioTheme 2.3.8
BEGIN:VEVENT
UID:urn:uuid:1217a81d-283e-4f4d-a61c-2378e1adb252
URL:https://mitchmcvicker.com/concerts/gig-2410/
DTSTART;VALUE=DATE:20060820
SUMMARY:Abandonement Coffeehouse
LOCATION:Abandonement Coffeehouse\, Colorado Springs\, CO
END:VEVENT
END:VCALENDAR
