BEGIN:VCALENDAR
VERSION:2.0
PRODID:-//AudioTheme 2.3.8
BEGIN:VEVENT
UID:urn:uuid:32344842-5def-4e96-a3e1-47eb0d9c5777
URL:https://mitchmcvicker.com/concerts/gig-2406/
DTSTART;VALUE=DATE:20060817
SUMMARY:"The Landing"
LOCATION:"The Landing"\, Gillette\, WY
END:VEVENT
END:VCALENDAR
