BEGIN:VCALENDAR
VERSION:2.0
PRODID:-//AudioTheme 2.3.8
BEGIN:VEVENT
UID:urn:uuid:680daec1-79cb-4771-92be-6c8c76cfae6f
URL:https://mitchmcvicker.com/concerts/gig-2405/
DTSTART;VALUE=DATE:20060816
SUMMARY:Everday Joe's Coffeehouse
LOCATION:Everday Joe's Coffeehouse\, Ft. Collins\, CO
END:VEVENT
END:VCALENDAR
