BEGIN:VCALENDAR
VERSION:2.0
PRODID:-//AudioTheme 2.3.8
BEGIN:VEVENT
UID:urn:uuid:24fd56ca-dd6d-400a-81b2-e78b67affc09
URL:https://mitchmcvicker.com/concerts/gig-2403/
DTSTART;VALUE=DATE:20060730
SUMMARY:Calvary Chapel
LOCATION:Calvary Chapel\, Norman\, OK
END:VEVENT
END:VCALENDAR
