BEGIN:VCALENDAR
VERSION:2.0
PRODID:-//AudioTheme 2.3.8
BEGIN:VEVENT
UID:urn:uuid:5f7482a0-0c54-4ea6-8ef2-7cd8bcabd4f4
URL:https://mitchmcvicker.com/concerts/gig-2401/
DTSTART;VALUE=DATE:20060728
SUMMARY:New Life Fellowship-Hallar Community Building
LOCATION:New Life Fellowship-Hallar Community Building\, Holden\, MO
END:VEVENT
END:VCALENDAR
