BEGIN:VCALENDAR
VERSION:2.0
PRODID:-//AudioTheme 2.3.8
BEGIN:VEVENT
UID:urn:uuid:efbfc3bd-cce8-4714-9d44-c605e72cca10
URL:https://mitchmcvicker.com/concerts/gig-2399/
DTSTART;VALUE=DATE:20060727
SUMMARY:Hidden Haven Christian Camp
LOCATION:Hidden Haven Christian Camp\, Thayer\, KS
END:VEVENT
END:VCALENDAR
