BEGIN:VCALENDAR
VERSION:2.0
PRODID:-//AudioTheme 2.3.8
BEGIN:VEVENT
UID:urn:uuid:85fd4c09-b86b-4e03-ba4e-c14491fe778f
URL:https://mitchmcvicker.com/concerts/gig-2398/
DTSTART;VALUE=DATE:20060709
SUMMARY:Burlington United Methodist Church
LOCATION:Burlington United Methodist Church\, Burlington\, IL
END:VEVENT
END:VCALENDAR
