BEGIN:VCALENDAR
VERSION:2.0
PRODID:-//AudioTheme 2.3.8
BEGIN:VEVENT
UID:urn:uuid:2e313d7d-12ea-479e-be39-42c8294c6355
URL:https://mitchmcvicker.com/concerts/gig-2397/
DTSTART;VALUE=DATE:20060708
SUMMARY:St. Paul Catholic Church
LOCATION:St. Paul Catholic Church\, Valparaiso\, IN
END:VEVENT
END:VCALENDAR
