BEGIN:VCALENDAR
VERSION:2.0
PRODID:-//AudioTheme 2.3.8
BEGIN:VEVENT
UID:urn:uuid:ec01ca3a-9318-4b99-8136-0f874f979ddf
URL:https://mitchmcvicker.com/concerts/gig-2395/
DTSTART;VALUE=DATE:20060625
SUMMARY:Starlight Christian Church
LOCATION:Starlight Christian Church\, Cedar Falls\, IA
END:VEVENT
END:VCALENDAR
