BEGIN:VCALENDAR
VERSION:2.0
PRODID:-//AudioTheme 2.3.8
BEGIN:VEVENT
UID:urn:uuid:a87b80d0-c262-4a05-ab94-ed91b19799f7
URL:https://mitchmcvicker.com/concerts/gig-2393/
DTSTART;VALUE=DATE:20060624
SUMMARY:St. John Retreat Center
LOCATION:St. John Retreat Center\, Bellevue\, IA
END:VEVENT
END:VCALENDAR
