BEGIN:VCALENDAR
VERSION:2.0
PRODID:-//AudioTheme 2.3.8
BEGIN:VEVENT
UID:urn:uuid:4c2d6ce7-3b08-428e-aa4b-8ad5e52bb9ac
URL:https://mitchmcvicker.com/concerts/gig-2391/
DTSTART;VALUE=DATE:20060623
SUMMARY:His Oasis Music Festival
LOCATION:His Oasis Music Festival\, Plainfield\, WI
END:VEVENT
END:VCALENDAR
