BEGIN:VCALENDAR
VERSION:2.0
PRODID:-//AudioTheme 2.3.8
BEGIN:VEVENT
UID:urn:uuid:de81d9e1-82dc-45d2-ac12-8a7cd594e297
URL:https://mitchmcvicker.com/concerts/gig-2389/
DTSTART;VALUE=DATE:20060611
SUMMARY:Mayfield Church
LOCATION:Mayfield Church\, Chesterland\, OH
END:VEVENT
END:VCALENDAR
