BEGIN:VCALENDAR
VERSION:2.0
PRODID:-//AudioTheme 2.3.8
BEGIN:VEVENT
UID:urn:uuid:3e0ceeb6-fd72-4bcc-b76b-1d4b1b17ee46
URL:https://mitchmcvicker.com/concerts/gig-2388/
DTSTART;VALUE=DATE:20060609
SUMMARY:Holy Trinity Church
LOCATION:Holy Trinity Church\, Dunkirk\, NY
END:VEVENT
END:VCALENDAR
