BEGIN:VCALENDAR
VERSION:2.0
PRODID:-//AudioTheme 2.3.8
BEGIN:VEVENT
UID:urn:uuid:7a92f499-f5fd-4bf2-9aaa-bb6d01a90b78
URL:https://mitchmcvicker.com/concerts/gig-2386/
DTSTART;VALUE=DATE:20060521
SUMMARY:All Saints' Episcopal Church
LOCATION:All Saints' Episcopal Church\, Cayce\, SC
END:VEVENT
END:VCALENDAR
