BEGIN:VCALENDAR
VERSION:2.0
PRODID:-//AudioTheme 2.3.8
BEGIN:VEVENT
UID:urn:uuid:1bb1874e-dd5c-467c-b534-f59ffd3a1bc8
URL:https://mitchmcvicker.com/concerts/gig-2385/
DTSTART;VALUE=DATE:20060520
SUMMARY:Pavillion Coffeehouse
LOCATION:Pavillion Coffeehouse\, Cayce\, SC
END:VEVENT
END:VCALENDAR
