BEGIN:VCALENDAR
VERSION:2.0
PRODID:-//AudioTheme 2.3.8
BEGIN:VEVENT
UID:urn:uuid:f4e43c49-c59f-468c-a58d-ef59105b4997
URL:https://mitchmcvicker.com/concerts/gig-2383/
DTSTART;VALUE=DATE:20060519
SUMMARY:Lewisville Baptist Church
LOCATION:Lewisville Baptist Church\, Lewisville\, NC
END:VEVENT
END:VCALENDAR
