BEGIN:VCALENDAR
VERSION:2.0
PRODID:-//AudioTheme 2.3.8
BEGIN:VEVENT
UID:urn:uuid:0256c6d9-8864-4b4e-a718-c022a3288dc1
URL:https://mitchmcvicker.com/concerts/gig-2382/
DTSTART;VALUE=DATE:20060518
SUMMARY:St. Marks Church
LOCATION:St. Marks Church\, Burlington\, NC
END:VEVENT
END:VCALENDAR
