BEGIN:VCALENDAR
VERSION:2.0
PRODID:-//AudioTheme 2.3.8
BEGIN:VEVENT
UID:urn:uuid:3fc7f079-30b9-42d6-b696-33399d3441c6
URL:https://mitchmcvicker.com/concerts/gig-2379/
DTSTART;VALUE=DATE:20060423
SUMMARY:Faith Christian Academy
LOCATION:Faith Christian Academy\, Longs (Myrtle Beach)\, SC
END:VEVENT
END:VCALENDAR
