BEGIN:VCALENDAR
VERSION:2.0
PRODID:-//AudioTheme 2.3.8
BEGIN:VEVENT
UID:urn:uuid:43961d45-af19-4232-86ea-f37f6400ff89
URL:https://mitchmcvicker.com/concerts/gig-2378/
DTSTART;VALUE=DATE:20060430
SUMMARY:Altamont Christian Church
LOCATION:Altamont Christian Church\, Altamont\, IL
END:VEVENT
END:VCALENDAR
