BEGIN:VCALENDAR
VERSION:2.0
PRODID:-//AudioTheme 2.3.8
BEGIN:VEVENT
UID:urn:uuid:a8c17d48-6ae2-480b-a139-719e86b4fc19
URL:https://mitchmcvicker.com/concerts/gig-2376/
DTSTART;VALUE=DATE:20060429
SUMMARY:Mt. Olive General Baptist Church
LOCATION:Mt. Olive General Baptist Church\, Fenton\, MO
END:VEVENT
END:VCALENDAR
