BEGIN:VCALENDAR
VERSION:2.0
PRODID:-//AudioTheme 2.3.8
BEGIN:VEVENT
UID:urn:uuid:a8a3c98c-f6db-493c-8628-7a2ea62933a0
URL:https://mitchmcvicker.com/concerts/gig-2374/
DTSTART;VALUE=DATE:20060428
SUMMARY:North Central College-The Union
LOCATION:North Central College-The Union\, Naperville\, IL
END:VEVENT
END:VCALENDAR
