BEGIN:VCALENDAR
VERSION:2.0
PRODID:-//AudioTheme 2.3.8
BEGIN:VEVENT
UID:urn:uuid:6b8a8b48-65bf-41e5-9fcd-a9f7d1ba8def
URL:https://mitchmcvicker.com/concerts/gig-2373/
DTSTART;VALUE=DATE:20060427
SUMMARY:Park Chapel Christian Church
LOCATION:Park Chapel Christian Church\, Greenfield\, IN
END:VEVENT
END:VCALENDAR
