BEGIN:VCALENDAR
VERSION:2.0
PRODID:-//AudioTheme 2.3.8
BEGIN:VEVENT
UID:urn:uuid:a375bbc5-b7b4-48ba-be36-9d92d0e9bce7
URL:https://mitchmcvicker.com/concerts/gig-2369/
DTSTART;VALUE=DATE:20060421
SUMMARY:Oakland Baptist Church
LOCATION:Oakland Baptist Church\, Monroe\, NC
END:VEVENT
END:VCALENDAR
