BEGIN:VCALENDAR
VERSION:2.0
PRODID:-//AudioTheme 2.3.8
BEGIN:VEVENT
UID:urn:uuid:f9cbaf56-513c-402b-ae2c-0b9563660d0a
URL:https://mitchmcvicker.com/concerts/gig-2368/
DTSTART;VALUE=DATE:20060420
SUMMARY:Mebane Presbyterian Church
LOCATION:Mebane Presbyterian Church\, Mebane\, NC
END:VEVENT
END:VCALENDAR
