BEGIN:VCALENDAR
VERSION:2.0
PRODID:-//AudioTheme 2.3.8
BEGIN:VEVENT
UID:urn:uuid:48221daf-e724-4be7-981f-363e6a95489f
URL:https://mitchmcvicker.com/concerts/gig-2366/
DTSTART;VALUE=DATE:20060314
SUMMARY:Community Bible Church-Benefit Concert  for Kim Lampman-Sponsored by Friends Church
LOCATION:Community Bible Church-Benefit Concert  for Kim Lampman-Sponsored by Friends Church\, Pierre\, SD
END:VEVENT
END:VCALENDAR
