BEGIN:VCALENDAR
VERSION:2.0
PRODID:-//AudioTheme 2.3.8
BEGIN:VEVENT
UID:urn:uuid:0865498b-134c-48dc-81c6-8e459d086af8
URL:https://mitchmcvicker.com/concerts/gig-2364/
DTSTART;VALUE=DATE:20060326
SUMMARY:Cornerstone Church
LOCATION:Cornerstone Church\, Zearing\, IA
END:VEVENT
END:VCALENDAR
