BEGIN:VCALENDAR
VERSION:2.0
PRODID:-//AudioTheme 2.3.8
BEGIN:VEVENT
UID:urn:uuid:d7b6604d-809a-46ec-a3e1-d1cbc3d224d7
URL:https://mitchmcvicker.com/concerts/gig-2362/
DTSTART;VALUE=DATE:20060325
SUMMARY:Urban Refuge Church
LOCATION:Urban Refuge Church\, Minneapolis\, MN
END:VEVENT
END:VCALENDAR
