BEGIN:VCALENDAR
VERSION:2.0
PRODID:-//AudioTheme 2.3.8
BEGIN:VEVENT
UID:urn:uuid:f7651293-b059-4631-b259-beba3a6e2549
URL:https://mitchmcvicker.com/concerts/gig-2361/
DTSTART;VALUE=DATE:20060324
SUMMARY:Hillcrest Baptist Church
LOCATION:Hillcrest Baptist Church\, Sioux Falls\, SD
END:VEVENT
END:VCALENDAR
