BEGIN:VCALENDAR
VERSION:2.0
PRODID:-//AudioTheme 2.3.8
BEGIN:VEVENT
UID:urn:uuid:9115fb3c-5b7f-444b-b10e-5dc559541d65
URL:https://mitchmcvicker.com/concerts/gig-2360/
DTSTART;VALUE=DATE:20060323
SUMMARY:Faith and Learning Alumni Auditorium/Friends University
LOCATION:Faith and Learning Alumni Auditorium/Friends University\, Wichita\, KS
END:VEVENT
END:VCALENDAR
