BEGIN:VCALENDAR
VERSION:2.0
PRODID:-//AudioTheme 2.3.8
BEGIN:VEVENT
UID:urn:uuid:7e1f37a1-5b62-4090-ac5c-527a12e4f8f1
URL:https://mitchmcvicker.com/concerts/gig-2359/
DTSTART;VALUE=DATE:20060321
SUMMARY:First United Methodist Church
LOCATION:First United Methodist Church\, Abilene\, KS
END:VEVENT
END:VCALENDAR
