BEGIN:VCALENDAR
VERSION:2.0
PRODID:-//AudioTheme 2.3.8
BEGIN:VEVENT
UID:urn:uuid:f70a66a1-8c08-404f-985f-1fd8eeb00cdf
URL:https://mitchmcvicker.com/concerts/gig-2356/
DTSTART;VALUE=DATE:20060318
SUMMARY:Horizon Community Church
LOCATION:Horizon Community Church\, Highlands Ranch\, CO
END:VEVENT
END:VCALENDAR
