BEGIN:VCALENDAR
VERSION:2.0
PRODID:-//AudioTheme 2.3.8
BEGIN:VEVENT
UID:urn:uuid:262e16a6-73a1-4c42-b57e-6bbaf1de8fde
URL:https://mitchmcvicker.com/concerts/gig-2354/
DTSTART;VALUE=DATE:20060317
SUMMARY:Hot Springs County Auditorium
LOCATION:Hot Springs County Auditorium\, Thermopolis\, WY
END:VEVENT
END:VCALENDAR
