BEGIN:VCALENDAR
VERSION:2.0
PRODID:-//AudioTheme 2.3.8
BEGIN:VEVENT
UID:urn:uuid:02946080-4fa4-4879-a42a-720816affd9e
URL:https://mitchmcvicker.com/concerts/gig-2352/
DTSTART;VALUE=DATE:20060316
SUMMARY:Rocky Mountain College- Fraley Lounge
LOCATION:Rocky Mountain College- Fraley Lounge\, Billings\, MT
END:VEVENT
END:VCALENDAR
