BEGIN:VCALENDAR
VERSION:2.0
PRODID:-//AudioTheme 2.3.8
BEGIN:VEVENT
UID:urn:uuid:ec5f5e58-472f-4047-aafd-6161c3935da2
URL:https://mitchmcvicker.com/concerts/gig-2351/
DTSTART;VALUE=DATE:20060312
SUMMARY:Community Bible Church-Benefit Concert for Kim Lanpman-Sponsored by Friends Church
LOCATION:Community Bible Church-Benefit Concert for Kim Lanpman-Sponsored by Friends Church\, 1516 N Harrison Ave\, Pierre\, SD\, 57501
END:VEVENT
END:VCALENDAR
