BEGIN:VCALENDAR
VERSION:2.0
PRODID:-//AudioTheme 2.3.8
BEGIN:VEVENT
UID:urn:uuid:a2e7b862-b985-4cbc-8821-e082b86c6cc5
URL:https://mitchmcvicker.com/concerts/gig-2348/
DTSTART;VALUE=DATE:20060311
SUMMARY:Lutheran Church of the Master
LOCATION:Lutheran Church of the Master\, 580 Kuhn Rd.\, Carol Stream\, IL\, USA
END:VEVENT
END:VCALENDAR
