BEGIN:VCALENDAR
VERSION:2.0
PRODID:-//AudioTheme 2.3.8
BEGIN:VEVENT
UID:urn:uuid:a9a0c44d-8327-41bb-a4da-f9f2b5e46762
URL:https://mitchmcvicker.com/concerts/gig-2346/
DTSTART;VALUE=DATE:20060310
SUMMARY:Radiant Fellowship
LOCATION:Radiant Fellowship\, 420 N. Harrison\, Waupaca\, WI
END:VEVENT
END:VCALENDAR
