BEGIN:VCALENDAR
VERSION:2.0
PRODID:-//AudioTheme 2.3.8
BEGIN:VEVENT
UID:urn:uuid:3b760f58-d506-4c2c-978b-6e4579731111
URL:https://mitchmcvicker.com/concerts/gig-2345/
DTSTART;VALUE=DATE:20060309
SUMMARY:Countryside Church
LOCATION:Countryside Church\, Michigan City\, IN
END:VEVENT
END:VCALENDAR
