BEGIN:VCALENDAR
VERSION:2.0
PRODID:-//AudioTheme 2.3.8
BEGIN:VEVENT
UID:urn:uuid:1ecd1aa7-a1bf-4243-bb23-f0f6fd071ab3
URL:https://mitchmcvicker.com/concerts/gig-2344/
DTSTART;VALUE=DATE:20060306
SUMMARY:LeClaire Christian Church
LOCATION:LeClaire Christian Church\, Edwardsville\, IL
END:VEVENT
END:VCALENDAR
