BEGIN:VCALENDAR
VERSION:2.0
PRODID:-//AudioTheme 2.3.8
BEGIN:VEVENT
UID:urn:uuid:5e64f0dc-d590-4ce8-95e2-e80274d8d987
URL:https://mitchmcvicker.com/concerts/gig-2343/
DTSTART;VALUE=DATE:20060305
SUMMARY:Shawnee Heights United Methodist Church
LOCATION:Shawnee Heights United Methodist Church\, Tecumseh(Topeka)\, KS
END:VEVENT
END:VCALENDAR
