BEGIN:VCALENDAR
VERSION:2.0
PRODID:-//AudioTheme 2.3.8
BEGIN:VEVENT
UID:urn:uuid:2da2acc5-a684-4269-8732-4eabc7d3b1bb
URL:https://mitchmcvicker.com/concerts/gig-2341/
DTSTART;VALUE=DATE:20060303
SUMMARY:Praise Coffeehouse
LOCATION:Praise Coffeehouse\, Greenville\, IL
END:VEVENT
END:VCALENDAR
