BEGIN:VCALENDAR
VERSION:2.0
PRODID:-//AudioTheme 2.3.8
BEGIN:VEVENT
UID:urn:uuid:6e552ded-f89d-480b-826c-87495cad17c4
URL:https://mitchmcvicker.com/concerts/gig-2335/
DTSTART;VALUE=DATE:20071207
SUMMARY:McKinney Fellowship Bible Church
LOCATION:McKinney Fellowship Bible Church\, McKinney\, TX
END:VEVENT
END:VCALENDAR
