BEGIN:VCALENDAR
VERSION:2.0
PRODID:-//AudioTheme 2.3.8
BEGIN:VEVENT
UID:urn:uuid:b71e1da2-fab2-42c2-b85f-0ddfa8cb7b26
URL:https://mitchmcvicker.com/concerts/gig-2333/
DTSTART;VALUE=DATE:20071206
SUMMARY:Rose Heights Church of God
LOCATION:Rose Heights Church of God\, Tyler\, TX
END:VEVENT
END:VCALENDAR
