BEGIN:VCALENDAR
VERSION:2.0
PRODID:-//AudioTheme 2.3.8
BEGIN:VEVENT
UID:urn:uuid:e21bdcdd-bd52-4a19-b652-d85c7955aa71
URL:https://mitchmcvicker.com/concerts/gig-2331/
DTSTART;VALUE=DATE:20071205
SUMMARY:First Assembly of God
LOCATION:First Assembly of God\, Hot Springs\, AR
END:VEVENT
END:VCALENDAR
